{
 "currentVersion": 11.1,
 "cimVersion": "3.1.0",
 "serviceDescription": "The AUSTopo Topographic Basemap is a seamless, national digital representation of the AUSTopo 1:250,000 topographic map series, delivered as a high\u2011performance Web Map Tile Service (WMTS). It provides a consistent and reliable portrayal of Australia\u2019s major topographic features, optimised specifically for display at the 1:250,000 scale. This basemap is designed for visualisation purposes and general situational awareness. It is not suitable for: large\u2011scale cartographic production, navigation or emergency decision\u2011making or detailed spatial analysis.Features may be generalised to maintain cartographic clarity at the intended scale.",
 "mapName": "AUSTopo Topographic Basemap",
 "description": "The AUSTopo Topographic Basemap is a seamless, national digital representation of the AUSTopo 1:250,000 topographic map series, delivered as a high\u2011performance Web Map Tile Service (WMTS). It provides a consistent and reliable portrayal of Australia\u2019s major topographic features, optimised specifically for display at the 1:250,000 scale. This basemap is designed for visualisation purposes and general situational awareness. It is not suitable for: large\u2011scale cartographic production, navigation or emergency decision\u2011making or detailed spatial analysis.Features may be generalised to maintain cartographic clarity at the intended scale.",
 "copyrightText": "Geoscience Australia",
 "supportsDynamicLayers": true,
 "layers": [
  {
   "id": 79,
   "name": "Australian Mainland",
   "parentLayerId": -1,
   "defaultVisibility": true,
   "subLayerIds": null,
   "minScale": 3.6978595474472E7,
   "maxScale": 0,
   "type": "Feature Layer",
   "geometryType": "esriGeometryPolygon",
   "supportsDynamicLegends": true
  }
 ],
 "tables": [],
 "spatialReference": {
  "wkid": 7844,
  "latestWkid": 7844,
  "xyTolerance": 8.983152841195215E-9,
  "zTolerance": 0.001,
  "mTolerance": 0.001,
  "falseX": -400,
  "falseY": -400,
  "xyUnits": 9.999999999999999E8,
  "falseZ": -100000,
  "zUnits": 10000,
  "falseM": -100000,
  "mUnits": 10000
 },
 "singleFusedMapCache": true,
 "tileInfo": {
  "rows": 512,
  "cols": 512,
  "dpi": 96,
  "format": "PNG",
  "compressionQuality": 0,
  "origin": {
   "x": -400,
   "y": 400
  },
  "spatialReference": {
   "wkid": 7844,
   "latestWkid": 7844,
   "xyTolerance": 8.983152841195215E-9,
   "zTolerance": 0.001,
   "mTolerance": 0.001,
   "falseX": -400,
   "falseY": -400,
   "xyUnits": 9.999999999999999E8,
   "falseZ": -100000,
   "zUnits": 10000,
   "falseM": -100000,
   "mUnits": 10000
  },
  "lods": [
   {
    "level": 0,
    "resolution": 1.2182840349851034,
    "scale": 512000000
   },
   {
    "level": 1,
    "resolution": 0.6091420174925517,
    "scale": 256000000
   },
   {
    "level": 2,
    "resolution": 0.30457100874627585,
    "scale": 128000000
   },
   {
    "level": 3,
    "resolution": 0.15228550437313793,
    "scale": 64000000
   },
   {
    "level": 4,
    "resolution": 0.07614275218656896,
    "scale": 32000000
   },
   {
    "level": 5,
    "resolution": 0.03807137609328448,
    "scale": 16000000
   },
   {
    "level": 6,
    "resolution": 0.01903568804664224,
    "scale": 8000000
   },
   {
    "level": 7,
    "resolution": 0.00951784402332112,
    "scale": 4000000
   },
   {
    "level": 8,
    "resolution": 0.00475892201166056,
    "scale": 2000000
   },
   {
    "level": 9,
    "resolution": 0.00237946100583028,
    "scale": 1000000
   },
   {
    "level": 10,
    "resolution": 0.00118973050291514,
    "scale": 500000
   },
   {
    "level": 11,
    "resolution": 5.9486525145757E-4,
    "scale": 250000
   }
  ]
 },
 "storageInfo": {
  "storageFormat": "esriMapCacheStorageModeCompactV2",
  "packetSize": 128
 },
 "initialExtent": {
  "xmin": 104.4480375177611,
  "ymin": -51.415463366208215,
  "xmax": 169.8955273141245,
  "ymax": -6.921818356478283,
  "spatialReference": {
   "cs": "gcs",
   "wkid": 7844
  }
 },
 "fullExtent": {
  "xmin": 103.57337612013421,
  "ymin": -49.01965171183814,
  "xmax": 169.02086591649763,
  "ymax": -4.5260067021082016,
  "spatialReference": {
   "cs": "gcs",
   "wkid": 7844
  }
 },
 "datesInUnknownTimezone": false,
 "minScale": 512000000,
 "maxScale": 250000,
 "units": "esriDecimalDegrees",
 "supportedImageFormatTypes": "PNG32,PNG24,PNG,JPG,DIB,TIFF,EMF,PS,PDF,GIF,SVG,SVGZ,BMP",
 "documentInfo": {
  "Title": "AUSTopo Topographic Basemap",
  "Author": "",
  "Comments": "The AUSTopo Topographic Basemap is a seamless, national digital representation of the AUSTopo 1:250,000 topographic map series, delivered as a high\u2011performance Web Map Tile Service (WMTS). It provides a consistent and reliable portrayal of Australia\u2019s major topographic features, optimised specifically for display at the 1:250,000 scale. This basemap is designed for visualisation purposes and general situational awareness. It is not suitable for: large\u2011scale cartographic production, navigation or emergency decision\u2011making or detailed spatial analysis.Features may be generalised to maintain cartographic clarity at the intended scale.",
  "Subject": "The AUSTopo Topographic Basemap is a seamless, national digital representation of the AUSTopo 1:250,000 topographic map series, delivered as a high\u2011performance Web Map Tile Service (WMTS). It provides a consistent and reliable portrayal of Australia\u2019s major topographic features, optimised specifically for display at the 1:250,000 scale.",
  "Category": "",
  "Version": "3.5.0",
  "AntialiasingMode": "Best",
  "TextAntialiasingMode": "Force",
  "Keywords": "Australia,Basemap,Topographic,mapping,web service,WMTS,AUSTopo,250k,1:250000,tile cache"
 },
 "capabilities": "Map,Query,Data",
 "supportedQueryFormats": "JSON, geoJSON, PBF",
 "exportTilesAllowed": false,
 "referenceScale": 0.0,
 "datumTransformations": [
  {
   "geoTransforms": [
    {
     "wkid": 108060,
     "latestWkid": 8048,
     "transformForward": true,
     "name": "GDA_1994_To_GDA2020_1"
    }
   ]
  },
  {
   "geoTransforms": [
    {
     "wkid": 1150,
     "latestWkid": 1150,
     "transformForward": false,
     "name": "GDA_1994_To_WGS_1984"
    },
    {
     "wkid": 108060,
     "latestWkid": 8048,
     "transformForward": true,
     "name": "GDA_1994_To_GDA2020_1"
    }
   ]
  },
  {
   "geoTransforms": [
    {
     "wkid": 9688,
     "latestWkid": 9688,
     "transformForward": true,
     "name": "GDA_1994_To_WGS_1984_2"
    }
   ]
  },
  {
   "geoTransforms": [
    {
     "wkid": 9688,
     "latestWkid": 9688,
     "transformForward": false,
     "name": "GDA_1994_To_WGS_1984_2"
    }
   ]
  }
 ],
 "supportsDatumTransformation": true,
 "floorAwareMapProperties": {
  "defaultFloorFilterSettings": {
   "isEnabled": false
  }
 },
 "archivingInfo": {
  "supportsHistoricMoment": false
 },
 "supportsClipping": true,
 "supportsSpatialFilter": true,
 "supportsTimeRelation": true,
 "supportsQueryDataElements": true,
 "mapUnits": {
  "uwkid": 9102
 },
 "maxRecordCount": 2000,
 "maxImageHeight": 4096,
 "maxImageWidth": 4096,
 "supportedExtensions": ""
}
