View In:
ArcGIS JavaScript
ArcGIS.com Map
Google Earth
ArcMap
ArcGIS Explorer
View Footprint In:
ArcGIS.com Map
Service Description: The service contains the Australian Coastal Geomorphology Landform Subtype Classifications, used to support a national coastal risk assessment. It describes the location and extent of landform subtypes identifiable at scales between 1:25,000 and 1:10,000. It also provides further detail to the Landform Type, with particular reference to feature stability (e.g. dune types) and mobility (e.g. channel types). It is cached service with a Web Mercator Projection.
Map Name: Australian Coastal Geomorphology Landform Subtype (Web Mercator)
Legend
All Layers and Tables
Layers:
Description: The service contains the Australian Coastal Geomorphology Landform Subtype Classifications, used to support a national coastal risk assessment. It describes the location and extent of landform subtypes identifiable at scales between 1:25,000 and 1:10,000. It also provides further detail to the Landform Type, with particular reference to feature stability (e.g. dune types) and mobility (e.g. channel types). It is cached service with a Web Mercator Projection.
Copyright Text: © Commonwealth of Australia (Geoscience Australia) 2017. This product is released under the Creative Commons Attribution 4.0 International Licence. http://creativecommons.org/licenses/by/4.0/legalcode
Spatial Reference:
102100
(3857)
Single Fused Map Cache: true
Tile Info:
- Height: 256
- Width: 256
- DPI: 96
-
Levels of Detail: 20
-
Level ID: 0
[ Start Tile, End Tile ]
- Resolution: 156543.03392800014
- Scale: 5.91657527591555E8
-
Level ID: 1
[ Start Tile, End Tile ]
- Resolution: 78271.51696399994
- Scale: 2.95828763795777E8
-
Level ID: 2
[ Start Tile, End Tile ]
- Resolution: 39135.75848200009
- Scale: 1.47914381897889E8
-
Level ID: 3
[ Start Tile, End Tile ]
- Resolution: 19567.87924099992
- Scale: 7.3957190948944E7
-
Level ID: 4
[ Start Tile, End Tile ]
- Resolution: 9783.93962049996
- Scale: 3.6978595474472E7
-
Level ID: 5
[ Start Tile, End Tile ]
- Resolution: 4891.96981024998
- Scale: 1.8489297737236E7
- Format: PNG
- Compression Quality: 0.0
- Origin:
X: -2.0037508342787E7
Y: 2.0037508342787E7
- Spatial Reference:
102100
(3857)
Initial Extent:
XMin: 1.1132473843961071E7
YMin: -5751226.869305018
XMax: 1.8207446327239368E7
YMax: -718841.8045348873
Spatial Reference:
102100
Full Extent:
XMin: 1.255609346706749E7
YMin: -5465442.183322752
XMax: 1.7154333531243462E7
YMax: -998507.5708918036
Spatial Reference:
102100
Units: esriMeters
Supported Image Format Types: PNG32,PNG24,PNG,JPG,DIB,TIFF,EMF,PS,PDF,GIF,SVG,SVGZ,BMP
Document Info:
Title: Australian Coastal Geomorphology Landform Subtype (Web Mercator)
Author: Geoscience Australia
Comments: The service contains the Australian Coastal Geomorphology Landform Subtype Classifications, used to support a national coastal risk assessment. It describes the location and extent of landform subtypes identifiable at scales between 1:25,000 and 1:10,000. It also provides further detail to the Landform Type, with particular reference to feature stability (e.g. dune types) and mobility (e.g. channel types). It is cached service with a Web Mercator Projection.
Subject: The service contains the Australian Coastal Geomorphology Landform Subtype Classifications, used to support a national coastal risk assessment.
Category:
Keywords: geomorphology,coast,coastal,beach,dune,smartline,risk,hazard,shoreline,geomorphic
AntialiasingMode: None
TextAntialiasingMode: Force
Supports Dynamic Layers: false
MaxRecordCount: 1000
MaxImageHeight: 4096
MaxImageWidth: 4096
Supported Query Formats: JSON, AMF
Min Scale: 5.91657527591555E8
Max Scale: 1128.497176
Child Resources:
Info
Supported Operations:
Export Map
Identify
Find
Return Updates
Generate KML