View In:
ArcGIS JavaScript
ArcGIS.com Map
Google Earth
ArcMap
ArcGIS Explorer
View Footprint In:
ArcGIS.com Map
Service Description: The service contains the Australian Coastal Geomorphology Landform Type Classifications, used to support a national coastal risk assessment. It describes the location and extent of landform types identifiable at scales between 1:250,000 and 1:25,000. It describes the landform types present in either erosional or dispositional environments. It is cached service with a Web Mercator Projection.
Map Name: Australian Coastal Geomorphology Landform Type (Web Mercator)
Legend
All Layers and Tables
Layers:
Description: The service contains the Australian Coastal Geomorphology Landform Type Classifications, used to support a national coastal risk assessment. It describes the location and extent of landform types identifiable at scales between 1:250,000 and 1:25,000. It describes the landform types present in either erosional or dispositional environments. It is cached service with a Web Mercator Projection.
Copyright Text: © Commonwealth of Australia (Geoscience Australia) 2017. This product is released under the Creative Commons Attribution 4.0 International Licence. http://creativecommons.org/licenses/by/4.0/legalcode
Spatial Reference:
102100
(3857)
Single Fused Map Cache: true
Tile Info:
- Height: 256
- Width: 256
- DPI: 96
-
Levels of Detail: 16
-
Level ID: 0
[ Start Tile, End Tile ]
- Resolution: 156543.03392800014
- Scale: 5.91657527591555E8
-
Level ID: 1
[ Start Tile, End Tile ]
- Resolution: 78271.51696399994
- Scale: 2.95828763795777E8
-
Level ID: 2
[ Start Tile, End Tile ]
- Resolution: 39135.75848200009
- Scale: 1.47914381897889E8
-
Level ID: 3
[ Start Tile, End Tile ]
- Resolution: 19567.87924099992
- Scale: 7.3957190948944E7
-
Level ID: 4
[ Start Tile, End Tile ]
- Resolution: 9783.93962049996
- Scale: 3.6978595474472E7
-
Level ID: 5
[ Start Tile, End Tile ]
- Resolution: 4891.96981024998
- Scale: 1.8489297737236E7
- Format: PNG
- Compression Quality: 0.0
- Origin:
X: -2.0037508342787E7
Y: 2.0037508342787E7
- Spatial Reference:
102100
(3857)
Initial Extent:
XMin: 1.1393126721458506E7
YMin: -5817384.837832516
XMax: 1.846672616736261E7
YMax: -785976.4062283249
Spatial Reference:
102100
(3857)
Full Extent:
XMin: 1.180927989791485E7
YMin: -5896744.592274222
XMax: 1.805057299090627E7
YMax: -706616.6517866191
Spatial Reference:
102100
(3857)
Units: esriMeters
Supported Image Format Types: PNG32,PNG24,PNG,JPG,DIB,TIFF,EMF,PS,PDF,GIF,SVG,SVGZ,BMP
Document Info:
Title: Australian Coastal Geomorphology Landform Type (Web Mercator)
Author: Geoscience Australia
Comments: The service contains the Australian Coastal Geomorphology Landform Type Classifications, used to support a national coastal risk assessment. It describes the location and extent of landform types identifiable at scales between 1:250,000 and 1:25,000. It describes the landform types present in either erosional or dispositional environments. It is cached service with a Web Mercator Projection.
Subject: The service contains the Australian Coastal Geomorphology Landform Type Classifications, used to support a national coastal risk assessment.
Category:
Keywords: geomorphology,coast,coastal,beach,dune,smartline,risk,hazard,shoreline,geomorphic
AntialiasingMode: None
TextAntialiasingMode: Force
Supports Dynamic Layers: false
MaxRecordCount: 1000
MaxImageHeight: 4096
MaxImageWidth: 4096
Supported Query Formats: JSON, AMF
Min Scale: 3.6978595474472E7
Max Scale: 4513.988705
Child Resources:
Info
Supported Operations:
Export Map
Identify
Find
Return Updates
Generate KML