{
 "currentVersion": 10.22,
 "serviceDescription": "The service contains the Australian Coastal Geomorphology Landform Type Classifications, used to support a national coastal risk assessment. It describes the location and extent of landform types identifiable at scales between 1:250,000 and 1:25,000. It describes the landform types present in either erosional or dispositional environments. It is cached service with a Web Mercator Projection.",
 "mapName": "Australian Coastal Geomorphology Landform Type (Web Mercator)",
 "description": "The service contains the Australian Coastal Geomorphology Landform Type Classifications, used to support a national coastal risk assessment. It describes the location and extent of landform types identifiable at scales between 1:250,000 and 1:25,000. It describes the landform types present in either erosional or dispositional environments. It is cached service with a Web Mercator Projection.",
 "copyrightText": "© Commonwealth of Australia (Geoscience Australia) 2017. This product is released under the Creative Commons Attribution 4.0 International Licence. http://creativecommons.org/licenses/by/4.0/legalcode",
 "supportsDynamicLayers": false,
 "layers": [
  {
   "id": 0,
   "name": "Geomorphology_25K",
   "parentLayerId": -1,
   "defaultVisibility": true,
   "subLayerIds": [
    1
   ],
   "minScale": 0,
   "maxScale": 0
  },
  {
   "id": 1,
   "name": "Landform_Type_25K_Group",
   "parentLayerId": 0,
   "defaultVisibility": true,
   "subLayerIds": [
    2,
    3,
    4
   ],
   "minScale": 0,
   "maxScale": 0
  },
  {
   "id": 2,
   "name": "Landform_Type_Geomorphology_Reclassified_25K",
   "parentLayerId": 1,
   "defaultVisibility": true,
   "subLayerIds": null,
   "minScale": 3000000,
   "maxScale": 0
  },
  {
   "id": 3,
   "name": "Landform_Type_Regolith_Reclassified_25K",
   "parentLayerId": 1,
   "defaultVisibility": true,
   "subLayerIds": null,
   "minScale": 3000000,
   "maxScale": 0
  },
  {
   "id": 4,
   "name": "Landform_Type_Surface_Geology_Reclassified_25K",
   "parentLayerId": 1,
   "defaultVisibility": true,
   "subLayerIds": null,
   "minScale": 3000000,
   "maxScale": 0
  },
  {
   "id": 5,
   "name": "Geomorphology_50K",
   "parentLayerId": -1,
   "defaultVisibility": true,
   "subLayerIds": [
    6
   ],
   "minScale": 0,
   "maxScale": 0
  },
  {
   "id": 6,
   "name": "Landform_Type_Geomorphology_Reclassified_50K",
   "parentLayerId": 5,
   "defaultVisibility": true,
   "subLayerIds": null,
   "minScale": 3000000,
   "maxScale": 0
  },
  {
   "id": 7,
   "name": "Geomorphology_100K",
   "parentLayerId": -1,
   "defaultVisibility": true,
   "subLayerIds": [
    8
   ],
   "minScale": 0,
   "maxScale": 0
  },
  {
   "id": 8,
   "name": "Landform_Type_100K_Group",
   "parentLayerId": 7,
   "defaultVisibility": true,
   "subLayerIds": [
    9,
    10,
    11
   ],
   "minScale": 0,
   "maxScale": 0
  },
  {
   "id": 9,
   "name": "Landform_Type_Geomorphology_Reclassified_100K",
   "parentLayerId": 8,
   "defaultVisibility": true,
   "subLayerIds": null,
   "minScale": 3000000,
   "maxScale": 0
  },
  {
   "id": 10,
   "name": "Landform_Type_OzEstuaries_Reclassified_100K",
   "parentLayerId": 8,
   "defaultVisibility": true,
   "subLayerIds": null,
   "minScale": 3000000,
   "maxScale": 0
  },
  {
   "id": 11,
   "name": "Landform_Type_Surface_Geology_Reclassified_100K",
   "parentLayerId": 8,
   "defaultVisibility": true,
   "subLayerIds": null,
   "minScale": 3000000,
   "maxScale": 0
  },
  {
   "id": 12,
   "name": "Geomorphology_250K",
   "parentLayerId": -1,
   "defaultVisibility": true,
   "subLayerIds": [
    13
   ],
   "minScale": 0,
   "maxScale": 0
  },
  {
   "id": 13,
   "name": "Landform_Type_Surface_Geology_Reclassified_250K",
   "parentLayerId": 12,
   "defaultVisibility": true,
   "subLayerIds": null,
   "minScale": 3000000,
   "maxScale": 0
  },
  {
   "id": 14,
   "name": "Geomorphology_500K",
   "parentLayerId": -1,
   "defaultVisibility": true,
   "subLayerIds": [
    15
   ],
   "minScale": 0,
   "maxScale": 0
  },
  {
   "id": 15,
   "name": "Landform_Type_Surface_Geology_Reclassified_500K",
   "parentLayerId": 14,
   "defaultVisibility": true,
   "subLayerIds": null,
   "minScale": 3000000,
   "maxScale": 0
  },
  {
   "id": 16,
   "name": "Geomorphic_Smartline",
   "parentLayerId": -1,
   "defaultVisibility": true,
   "subLayerIds": null,
   "minScale": 0,
   "maxScale": 0
  }
 ],
 "tables": [],
 "spatialReference": {
  "wkid": 102100,
  "latestWkid": 3857
 },
 "singleFusedMapCache": true,
 "tileInfo": {
  "rows": 256,
  "cols": 256,
  "dpi": 96,
  "format": "PNG",
  "compressionQuality": 0,
  "origin": {
   "x": -2.0037508342787E7,
   "y": 2.0037508342787E7
  },
  "spatialReference": {
   "wkid": 102100,
   "latestWkid": 3857
  },
  "lods": [
   {
    "level": 0,
    "resolution": 156543.03392800014,
    "scale": 5.91657527591555E8
   },
   {
    "level": 1,
    "resolution": 78271.51696399994,
    "scale": 2.95828763795777E8
   },
   {
    "level": 2,
    "resolution": 39135.75848200009,
    "scale": 1.47914381897889E8
   },
   {
    "level": 3,
    "resolution": 19567.87924099992,
    "scale": 7.3957190948944E7
   },
   {
    "level": 4,
    "resolution": 9783.93962049996,
    "scale": 3.6978595474472E7
   },
   {
    "level": 5,
    "resolution": 4891.96981024998,
    "scale": 1.8489297737236E7
   },
   {
    "level": 6,
    "resolution": 2445.98490512499,
    "scale": 9244648.868618
   },
   {
    "level": 7,
    "resolution": 1222.992452562495,
    "scale": 4622324.434309
   },
   {
    "level": 8,
    "resolution": 611.4962262813797,
    "scale": 2311162.217155
   },
   {
    "level": 9,
    "resolution": 305.74811314055756,
    "scale": 1155581.108577
   },
   {
    "level": 10,
    "resolution": 152.87405657041106,
    "scale": 577790.554289
   },
   {
    "level": 11,
    "resolution": 76.43702828507324,
    "scale": 288895.277144
   },
   {
    "level": 12,
    "resolution": 38.21851414253662,
    "scale": 144447.638572
   },
   {
    "level": 13,
    "resolution": 19.10925707126831,
    "scale": 72223.819286
   },
   {
    "level": 14,
    "resolution": 9.554628535634155,
    "scale": 36111.909643
   },
   {
    "level": 15,
    "resolution": 4.77731426794937,
    "scale": 18055.954822
   }
  ]
 },
 "initialExtent": {
  "xmin": 1.1393126721458506E7,
  "ymin": -5817384.837832516,
  "xmax": 1.846672616736261E7,
  "ymax": -785976.4062283249,
  "spatialReference": {
   "wkid": 102100,
   "latestWkid": 3857
  }
 },
 "fullExtent": {
  "xmin": 1.180927989791485E7,
  "ymin": -5896744.592274222,
  "xmax": 1.805057299090627E7,
  "ymax": -706616.6517866191,
  "spatialReference": {
   "wkid": 102100,
   "latestWkid": 3857
  }
 },
 "minScale": 3.6978595474472E7,
 "maxScale": 4513.988705,
 "units": "esriMeters",
 "supportedImageFormatTypes": "PNG32,PNG24,PNG,JPG,DIB,TIFF,EMF,PS,PDF,GIF,SVG,SVGZ,BMP",
 "documentInfo": {
  "Title": "Australian Coastal Geomorphology Landform Type (Web Mercator)",
  "Author": "Geoscience Australia",
  "Comments": "The service contains the Australian Coastal Geomorphology Landform Type Classifications, used to support a national coastal risk assessment. It describes the location and extent of landform types identifiable at scales between 1:250,000 and 1:25,000. It describes the landform types present in either erosional or dispositional environments. It is cached service with a Web Mercator Projection.",
  "Subject": "The service contains the Australian Coastal Geomorphology Landform Type Classifications, used to support a national coastal risk assessment.",
  "Category": "",
  "AntialiasingMode": "None",
  "TextAntialiasingMode": "Force",
  "Keywords": "geomorphology,coast,coastal,beach,dune,smartline,risk,hazard,shoreline,geomorphic"
 },
 "capabilities": "Map,Query,Data",
 "supportedQueryFormats": "JSON, AMF",
 "exportTilesAllowed": false,
 "maxRecordCount": 1000,
 "maxImageHeight": 4096,
 "maxImageWidth": 4096,
 "supportedExtensions": "KmlServer, WFSServer, WMSServer"
}
