{
 "currentVersion": 10.91,
 "serviceDescription": "The Seas and Submerged Lands Act (SSLA) is the Australian legislation that provides the framework for Australia to declare the baselines, limits and zones provided under the first six parts of the United Nations Convention on the Law of the Sea. These baselines, limits and zones are declared by Proclamations provided for under this act. This service depicts official spatial representation of these proclamations. The service includes feature layers: Normal and Straight baselines limits and locations, Contiguous Zone and limit, Territorial Sea Zone and limit, Exclusive Economic Zone (EEZ) and limit, Continental Shelf limit and locations. NOTE: There are two versions of the Exclusive Economic Zone (EEZ) provided. One depicts the EEZ as proclaimed in the Seas and Submerged Lands Act 1973 - Proclamation under section 10B (26/07/1994). The second version includes amendments reflecting the provisions of the signed but not unratified Treaty between the Government of Australia and the Government of the Republic of Indonesia, establishing an Exclusive Economic Zone Boundary and Certain Seabed Boundaries (Perth, 14 march 1997) [1997] ATNIF 9 - (not yet in force). (Perth Treaty). The version reflecting Perth Treaty EEZ limits and area should be the standard depiction.",
 "mapName": "Australia \u2013 Seas and Submerged Lands Act 1973",
 "description": "The Seas and Submerged Lands Act (SSLA) is the Australian legislation that provides the framework for Australia to declare the baselines, limits and zones provided under the first six parts of the United Nations Convention on the Law of the Sea. These baselines, limits and zones are declared by Proclamations provided for under this act. This service depicts official spatial representation of these proclamations. The service includes feature layers: Normal and Straight baselines limits and locations, Contiguous Zone and limit, Territorial Sea Zone and limit, Exclusive Economic Zone (EEZ) and limit, Continental Shelf limit and locations. NOTE: There are two versions of the Exclusive Economic Zone (EEZ) provided. One depicts the EEZ as proclaimed in the Seas and Submerged Lands Act 1973 - Proclamation under section 10B (26/07/1994). The second version includes amendments reflecting the provisions of the signed but not unratified Treaty between the Government of Australia and the Government of the Republic of Indonesia, establishing an Exclusive Economic Zone Boundary and Certain Seabed Boundaries (Perth, 14 march 1997) [1997] ATNIF 9 - (not yet in force). (Perth Treaty). The version reflecting Perth Treaty EEZ limits and area should be the standard depiction.",
 "copyrightText": "© Commonwealth of Australia (Geoscience Australia) 2019. This product is released under the Creative Commons Attribution 4.0 International Licence. http://creativecommons.org/licenses/by/4.0/legalcode",
 "supportsDynamicLayers": true,
 "layers": [
  {
   "id": 0,
   "name": "SSLA_1973_TSB_Normal_Baselines_Locations",
   "parentLayerId": -1,
   "defaultVisibility": true,
   "subLayerIds": null,
   "minScale": 150000,
   "maxScale": 0,
   "type": "Feature Layer",
   "geometryType": "esriGeometryPoint"
  },
  {
   "id": 1,
   "name": "SSLA_1973_TSB_Normal_Baselines_Limits",
   "parentLayerId": -1,
   "defaultVisibility": true,
   "subLayerIds": null,
   "minScale": 0,
   "maxScale": 0,
   "type": "Feature Layer",
   "geometryType": "esriGeometryPolyline"
  },
  {
   "id": 2,
   "name": "SSLA_1973_TSB_Straight_Baselines_Limits",
   "parentLayerId": -1,
   "defaultVisibility": true,
   "subLayerIds": null,
   "minScale": 0,
   "maxScale": 0,
   "type": "Feature Layer",
   "geometryType": "esriGeometryPolyline"
  },
  {
   "id": 3,
   "name": "SSLA_1973_TS_Limits",
   "parentLayerId": -1,
   "defaultVisibility": true,
   "subLayerIds": null,
   "minScale": 0,
   "maxScale": 0,
   "type": "Feature Layer",
   "geometryType": "esriGeometryPolyline"
  },
  {
   "id": 4,
   "name": "SSLA_1973_TS_Areas",
   "parentLayerId": -1,
   "defaultVisibility": true,
   "subLayerIds": null,
   "minScale": 0,
   "maxScale": 0,
   "type": "Feature Layer",
   "geometryType": "esriGeometryPolygon"
  },
  {
   "id": 5,
   "name": "SSLA_1973_CZ_Limits",
   "parentLayerId": -1,
   "defaultVisibility": true,
   "subLayerIds": null,
   "minScale": 0,
   "maxScale": 0,
   "type": "Feature Layer",
   "geometryType": "esriGeometryPolyline"
  },
  {
   "id": 6,
   "name": "SSLA_1973_CZ_Area",
   "parentLayerId": -1,
   "defaultVisibility": true,
   "subLayerIds": null,
   "minScale": 0,
   "maxScale": 0,
   "type": "Feature Layer",
   "geometryType": "esriGeometryPolygon"
  },
  {
   "id": 7,
   "name": "SSLA_1973_Perth_Treaty_EEZ_Limits",
   "parentLayerId": -1,
   "defaultVisibility": true,
   "subLayerIds": null,
   "minScale": 0,
   "maxScale": 0,
   "type": "Feature Layer",
   "geometryType": "esriGeometryPolyline"
  },
  {
   "id": 8,
   "name": "SSLA_1973_Perth_Treaty_EEZ_Areas",
   "parentLayerId": -1,
   "defaultVisibility": true,
   "subLayerIds": null,
   "minScale": 0,
   "maxScale": 0,
   "type": "Feature Layer",
   "geometryType": "esriGeometryPolygon"
  },
  {
   "id": 9,
   "name": "SSLA_1973_EEZ_Limits",
   "parentLayerId": -1,
   "defaultVisibility": true,
   "subLayerIds": null,
   "minScale": 0,
   "maxScale": 0,
   "type": "Feature Layer",
   "geometryType": "esriGeometryPolyline"
  },
  {
   "id": 10,
   "name": "SSLA_1973_EEZ_Areas",
   "parentLayerId": -1,
   "defaultVisibility": true,
   "subLayerIds": null,
   "minScale": 0,
   "maxScale": 0,
   "type": "Feature Layer",
   "geometryType": "esriGeometryPolygon"
  },
  {
   "id": 11,
   "name": "SSLA_1973_CS_Locations",
   "parentLayerId": -1,
   "defaultVisibility": true,
   "subLayerIds": null,
   "minScale": 300000,
   "maxScale": 0,
   "type": "Feature Layer",
   "geometryType": "esriGeometryPoint"
  },
  {
   "id": 12,
   "name": "SSLA_1973_CS_Limits",
   "parentLayerId": -1,
   "defaultVisibility": true,
   "subLayerIds": null,
   "minScale": 0,
   "maxScale": 0,
   "type": "Feature Layer",
   "geometryType": "esriGeometryPolyline"
  }
 ],
 "tables": [],
 "spatialReference": {
  "wkid": 102100,
  "latestWkid": 3857
 },
 "singleFusedMapCache": true,
 "tileInfo": {
  "rows": 256,
  "cols": 256,
  "dpi": 96,
  "format": "PNG",
  "compressionQuality": 0,
  "origin": {
   "x": -2.0037508342787E7,
   "y": 2.0037508342787E7
  },
  "spatialReference": {
   "wkid": 102100,
   "latestWkid": 3857
  },
  "lods": [
   {
    "level": 0,
    "resolution": 156543.03392800014,
    "scale": 5.91657527591555E8
   },
   {
    "level": 1,
    "resolution": 78271.51696399994,
    "scale": 2.95828763795777E8
   },
   {
    "level": 2,
    "resolution": 39135.75848200009,
    "scale": 1.47914381897889E8
   },
   {
    "level": 3,
    "resolution": 19567.87924099992,
    "scale": 7.3957190948944E7
   },
   {
    "level": 4,
    "resolution": 9783.93962049996,
    "scale": 3.6978595474472E7
   },
   {
    "level": 5,
    "resolution": 4891.96981024998,
    "scale": 1.8489297737236E7
   },
   {
    "level": 6,
    "resolution": 2445.98490512499,
    "scale": 9244648.868618
   },
   {
    "level": 7,
    "resolution": 1222.992452562495,
    "scale": 4622324.434309
   },
   {
    "level": 8,
    "resolution": 611.4962262813797,
    "scale": 2311162.217155
   },
   {
    "level": 9,
    "resolution": 305.74811314055756,
    "scale": 1155581.108577
   },
   {
    "level": 10,
    "resolution": 152.87405657041106,
    "scale": 577790.554289
   },
   {
    "level": 11,
    "resolution": 76.43702828507324,
    "scale": 288895.277144
   },
   {
    "level": 12,
    "resolution": 38.21851414253662,
    "scale": 144447.638572
   },
   {
    "level": 13,
    "resolution": 19.10925707126831,
    "scale": 72223.819286
   },
   {
    "level": 14,
    "resolution": 9.554628535634155,
    "scale": 36111.909643
   },
   {
    "level": 15,
    "resolution": 4.77731426794937,
    "scale": 18055.954822
   },
   {
    "level": 16,
    "resolution": 2.388657133974685,
    "scale": 9027.977411
   },
   {
    "level": 17,
    "resolution": 1.1943285668550503,
    "scale": 4513.988705
   },
   {
    "level": 18,
    "resolution": 0.5971642835598172,
    "scale": 2256.994353
   },
   {
    "level": 19,
    "resolution": 0.29858214164761665,
    "scale": 1128.497176
   },
   {
    "level": 20,
    "resolution": 0.14929107082380833,
    "scale": 564.248588
   },
   {
    "level": 21,
    "resolution": 0.07464553541190416,
    "scale": 282.124294
   },
   {
    "level": 22,
    "resolution": 0.03732276770595208,
    "scale": 141.062147
   },
   {
    "level": 23,
    "resolution": 0.01866138385297604,
    "scale": 70.5310735
   }
  ]
 },
 "initialExtent": {
  "xmin": 2798960.259089999,
  "ymin": -1.1844151559412058E7,
  "xmax": 2.1108163544163235E7,
  "ymax": -109857.25749011897,
  "spatialReference": {
   "cs": "pcs",
   "wkid": 102100
  }
 },
 "fullExtent": {
  "xmin": 4538538.145319539,
  "ymin": -1.1007296206562078E7,
  "xmax": 1.9368585657933705E7,
  "ymax": -946712.610340082,
  "spatialReference": {
   "cs": "pcs",
   "wkid": 102100
  }
 },
 "minScale": 5.91657527591555E8,
 "maxScale": 9027.977411,
 "units": "esriMeters",
 "supportedImageFormatTypes": "PNG32,PNG24,PNG,JPG,DIB,TIFF,EMF,PS,PDF,GIF,SVG,SVGZ,BMP",
 "documentInfo": {
  "Title": "Australia \u2013 Seas and Submerged Lands Act 1973",
  "Author": "Geoscience Australia",
  "Comments": "The Seas and Submerged Lands Act (SSLA) is the Australian legislation that provides the framework for Australia to declare the baselines, limits and zones provided under the first six parts of the United Nations Convention on the Law of the Sea. These baselines, limits and zones are declared by Proclamations provided for under this act. This service depicts official spatial representation of these proclamations. The service includes feature layers: Normal and Straight baselines limits and locations, Contiguous Zone and limit, Territorial Sea Zone and limit, Exclusive Economic Zone (EEZ) and limit, Continental Shelf limit and locations. NOTE: There are two versions of the Exclusive Economic Zone (EEZ) provided. One depicts the EEZ as proclaimed in the Seas and Submerged Lands Act 1973 - Proclamation under section 10B (26/07/1994). The second version includes amendments reflecting the provisions of the signed but not unratified Treaty between the Government of Australia and the Government of the Republic of Indonesia, establishing an Exclusive Economic Zone Boundary and Certain Seabed Boundaries (Perth, 14 march 1997) [1997] ATNIF 9 - (not yet in force). (Perth Treaty). The version reflecting Perth Treaty EEZ limits and area should be the standard depiction.",
  "Subject": "Australia \u2013 Seas and Submerged Lands Act 1973",
  "Category": "",
  "AntialiasingMode": "None",
  "TextAntialiasingMode": "Force",
  "Keywords": "Seas and Submerged Lands Act 1973,Georegulation,Legislation,Australia,Contiguous Zone,Continental,Web Service"
 },
 "capabilities": "Map,Query,Data",
 "supportedQueryFormats": "JSON, geoJSON",
 "exportTilesAllowed": false,
 "referenceScale": 0,
 "supportsDatumTransformation": true,
 "maxRecordCount": 1000,
 "maxImageHeight": 4096,
 "maxImageWidth": 4096,
 "supportedExtensions": "WFSServer, WMSServer"
}
