View In:
ArcGIS JavaScript
ArcGIS.com Map
Google Earth
ArcMap
View Footprint In:
ArcGIS.com Map
Service Description: The DMCii Mosaic service presents a sample of imagery captured by UK2-DMC satellite between December 2011 and April 2012.
Name: DMCii_Mosaic
Description: The DMCii Mosaic service presents a sample of imagery captured by UK2-DMC satellite between December 2011 and April 2012.
Single Fused Map Cache: false
Extent:
XMin: 1.2468001874400001E7
YMin: -5521858.494500002
XMax: 1.72524078744E7
YMax: -2242846.4945000014
Spatial Reference:
102100
(3857)
Initial Extent:
XMin: 1.2468001874400001E7
YMin: -5521858.494500002
XMax: 1.72524078744E7
YMax: -2242846.4945000014
Spatial Reference:
102100
(3857)
Full Extent:
XMin: 1.2468001874400001E7
YMin: -5521858.494500002
XMax: 1.72524078744E7
YMax: -2242846.4945000014
Spatial Reference:
102100
(3857)
Pixel Size X: 22.0
Pixel Size Y: 22.000000000000004
Band Count: 3
Pixel Type: U8
RasterFunction Infos: N/A
Mensuration Capabilities:
Has Histograms: true
Has Colormap: false
Min Scale: 0
Max Scale: 0
Copyright Text: © Commonwealth of Australia (Geoscience Australia) 2016. This product is released under the Creative Commons Attribution 4.0 International Licence. http://creativecommons.org/licenses/by/4.0/legalcode
Service Data Type: esriImageServiceDataTypeRGB
Min Values: 0, 0, 0
Max Values: 230, 230, 230
Mean Values: 82.26093490708077, 93.8911097556955, 85.8731358456145
Standard Deviation Values: 40.105924355433054, 40.19909286323728, 38.12693220733314
Object ID Field: OBJECTID
Fields:
-
OBJECTID
(
type: esriFieldTypeOID
,
alias: OBJECTID
)
-
Shape
(
type: esriFieldTypeGeometry
,
alias: Shape
)
-
Name
(
type: esriFieldTypeString
,
alias: Name
,
length: 50
)
-
MinPS
(
type: esriFieldTypeDouble
,
alias: MinPS
)
-
MaxPS
(
type: esriFieldTypeDouble
,
alias: MaxPS
)
-
LowPS
(
type: esriFieldTypeDouble
,
alias: LowPS
)
-
HighPS
(
type: esriFieldTypeDouble
,
alias: HighPS
)
-
Category
(
type: esriFieldTypeInteger
,
alias: Category
)
-
Tag
(
type: esriFieldTypeString
,
alias: Tag
,
length: 20
)
-
GroupName
(
type: esriFieldTypeString
,
alias: GroupName
,
length: 50
)
-
ProductName
(
type: esriFieldTypeString
,
alias: ProductName
,
length: 50
)
-
CenterX
(
type: esriFieldTypeDouble
,
alias: CenterX
)
-
CenterY
(
type: esriFieldTypeDouble
,
alias: CenterY
)
-
ZOrder
(
type: esriFieldTypeInteger
,
alias: ZOrder
)
-
SOrder
(
type: esriFieldTypeInteger
,
alias: SOrder
)
-
StereoID
(
type: esriFieldTypeString
,
alias: StereoID
,
length: 50
)
-
Thumbnail
(
type: esriFieldTypeBlob
,
alias: Thumbnail
)
-
Shape_Length
(
type: esriFieldTypeDouble
,
alias: Shape_Length
)
-
Shape_Area
(
type: esriFieldTypeDouble
,
alias: Shape_Area
)
Default Mosaic Method: ByAttribute
Allowed Mosaic Methods: ByAttribute,Center,NorthWest,LockRaster,Nadir,Viewpoint,Seamline,None
SortField: SOrder
SortValue: 0
Mosaic Operator: First
Default Compression Quality: 75
Default Resampling Method: Bilinear
Max Record Count: 1000
Max Image Height: 4100
Max Image Width: 15000
Max Download Image Count: 20
Max Mosaic Image Count: 20
Allow Raster Function: true
Allow Compute TiePoints: false
Supports Statistics: true
Supports Advanced Queries: true
Use StandardizedQueries: true
Raster Type Infos:
Name: Raster Dataset
Description: Supports all ArcGIS Raster Datasets
Help:
Has Raster Attribute Table: false
Edit Fields Info: null
Ownership Based AccessControl For Rasters: null
Child Resources:
Info
Histograms
Key Properties
Legend
Supported Operations:
Export Image
Query
Identify
Compute Histograms
Get Samples
Compute Class Statistics