View In:
ArcGIS JavaScript
ArcGIS.com Map
Google Earth
ArcMap
ArcGIS Explorer
View Footprint In:
ArcGIS.com Map
Service Description: World Bathymetry Base Map. The service includes world bathymetry data, and ocean, country, population and natural features. The information was derived from various sources, including Natural Earth and National Geophysical Data Center (NGDC) ETOPO2 Global 2 Elevations from the September 2001 data. The service contains layer scale dependencies.
Map Name: World Bathymetry Base Map (Web Mercator)
Legend
All Layers and Tables
Layers:
Description: World Bathymetry Base Map. The service includes world bathymetry data, and ocean, country, population and natural features. The information was derived from various sources, including Natural Earth and National Geophysical Data Center (NGDC) ETOPO2 Global 2 Elevations from the September 2001 data. The service contains layer scale dependencies.
Copyright Text: © Commonwealth of Australia (Geoscience Australia) 2016. This product is released under the Creative Commons Attribution 4.0 International Licence. http://creativecommons.org/licenses/by/4.0/legalcode . Made with Natural Earth. Free vector and raster map data @ naturalearthdata.com.
Spatial Reference:
102100
(3857)
Single Fused Map Cache: true
Tile Info:
- Height: 256
- Width: 256
- DPI: 96
-
Levels of Detail: 20
-
Level ID: 0
[ Start Tile, End Tile ]
- Resolution: 156543.03392800014
- Scale: 5.91657527591555E8
-
Level ID: 1
[ Start Tile, End Tile ]
- Resolution: 78271.51696399994
- Scale: 2.95828763795777E8
-
Level ID: 2
[ Start Tile, End Tile ]
- Resolution: 39135.75848200009
- Scale: 1.47914381897889E8
-
Level ID: 3
[ Start Tile, End Tile ]
- Resolution: 19567.87924099992
- Scale: 7.3957190948944E7
-
Level ID: 4
[ Start Tile, End Tile ]
- Resolution: 9783.93962049996
- Scale: 3.6978595474472E7
-
Level ID: 5
[ Start Tile, End Tile ]
- Resolution: 4891.96981024998
- Scale: 1.8489297737236E7
- Format: PNG32
- Compression Quality: 0.0
- Origin:
X: -2.0037508342787E7
Y: 2.0037508342787E7
- Spatial Reference:
102100
(3857)
Initial Extent:
XMin: -4.787173718612087E7
YMin: -6.343354497707367E7
XMax: 4.787173718612087E7
YMax: 6.329735226815161E7
Spatial Reference:
102100
(3857)
Full Extent:
XMin: -2.0037507842788246E7
YMin: -3.024097195838617E7
XMax: 2.0037507842788246E7
YMax: 3.0240971958386205E7
Spatial Reference:
102100
(3857)
Units: esriMeters
Supported Image Format Types: PNG32,PNG24,PNG,JPG,DIB,TIFF,EMF,PS,PDF,GIF,SVG,SVGZ,BMP
Document Info:
Title: World Bathymetry Base Map
Author: Geoscience Australia
Comments: World Bathymetry Base Map. The service includes world bathymetry data, and ocean, country, population and natural features. The information was derived from various sources, including Natural Earth and National Geophysical Data Center (NGDC) ETOPO2 Global 2 Elevations from the September 2001 data. The service contains layer scale dependencies.
Subject: The service includes world bathymetry data, and ocean, country, population and natural features.
Category:
Keywords: web service,world,political,boundaries,marine,bathymetry,topography,Natural Earth
AntialiasingMode: None
TextAntialiasingMode: Force
Supports Dynamic Layers: false
MaxRecordCount: 1000
MaxImageHeight: 4096
MaxImageWidth: 4096
Supported Query Formats: JSON, AMF
Min Scale: 5.91657527591555E8
Max Scale: 1128.497176
Child Resources:
Info
Supported Operations:
Export Map
Identify
Find
Return Updates
Generate KML