View In:
ArcGIS JavaScript
ArcGIS Online Map Viewer
ArcGIS Earth
ArcMap
ArcGIS Pro
View Footprint In:
ArcGIS Online Map Viewer
Service Description: This web service shows areas or locations occupied by an existing high-density urban development or known individual building structures in peri-urban and remote locations. Data used in this service is of varying levels of coverage and quality since it is aggregated from a variety of sources.
The intended purpose of the service is to provide preliminary, first-pass information about urban environment, building structures and their distribution in landscape, as one of constraints on future development. Users should carry out further and more detailed investigations because this information is not meant to be a definitive source or support engineering phase planning.
The service has layer scale dependencies.
Map Name: AREMI Buildings
Legend
All Layers and Tables
Dynamic Legend
Dynamic All Layers
Layers:
Description: This web service shows areas or locations occupied by an existing high-density urban development or known individual building structures in peri-urban and remote locations. Data used in this service is of varying levels of coverage and quality since it is aggregated from a variety of sources.
The intended purpose of the service is to provide preliminary, first-pass information about urban environment, building structures and their distribution in landscape, as one of constraints on future development. Users should carry out further and more detailed investigations because this information is not meant to be a definitive source or support engineering phase planning.
The service has layer scale dependencies.
Copyright Text: © Commonwealth of Australia (Geoscience Australia) 2016. This product is released under the Creative Commons Attribution 4.0 International Licence. http://creativecommons.org/licenses/by/4.0/legalcode
Spatial Reference:
102100
(3857)
Single Fused Map Cache: true
Tile Info:
- Height: 256
- Width: 256
- DPI: 96
-
Levels of Detail: 24
-
Level ID: 1
[ Start Tile, End Tile ]
- Resolution: 78271.5169639999
- Scale: 2.95828763795777E8
-
Level ID: 2
[ Start Tile, End Tile ]
- Resolution: 39135.7584820001
- Scale: 1.47914381897889E8
-
Level ID: 3
[ Start Tile, End Tile ]
- Resolution: 19567.8792409999
- Scale: 7.3957190948944E7
-
Level ID: 4
[ Start Tile, End Tile ]
- Resolution: 9783.93962049996
- Scale: 3.6978595474472E7
-
Level ID: 5
[ Start Tile, End Tile ]
- Resolution: 4891.96981024998
- Scale: 1.8489297737236E7
- Format: PNG
- Compression Quality: 0.0
- Origin: X: -2.0037508342787E7
Y: 2.0037508342787E7
- Spatial Reference: 102100
(3857)
Initial Extent:
XMin: 1.0045701270400684E7
YMin: -8931289.759762356
XMax: 1.96300097202331E7
YMax: 1252809.6297416023
Spatial Reference: 102100
(3857)
Full Extent:
XMin: 1.2572916157484913E7
YMin: -5412452.198751941
XMax: 1.7102794833673805E7
YMax: -1013629.5056270921
Spatial Reference: 102100
(3857)
Units: esriMeters
Supported Image Format Types: PNG32,PNG24,PNG,JPG,DIB,TIFF,EMF,PS,PDF,GIF,SVG,SVGZ,BMP
Document Info:
Title: AREMI Buildings WM
Author: Geoscience Australia
Comments: This web service shows areas or locations occupied by an existing high-density urban development or known individual building structures in peri-urban and remote locations. Data used in this service is of varying levels of coverage and quality since it is aggregated from a variety of sources.
The intended purpose of the service is to provide preliminary, first-pass information about urban environment, building structures and their distribution in landscape, as one of constraints on future development. Users should carry out further and more detailed investigations because this information is not meant to be a definitive source or support engineering phase planning.
The service has layer scale dependencies.
Subject: This service provides a level of awareness about possible structures and their distribution in landscape.
Category:
Keywords: habitation,buildings,web service,Australia
AntialiasingMode: None
TextAntialiasingMode: Force
Supports Dynamic Layers: true
MaxRecordCount: 1000
MaxImageHeight: 4096
MaxImageWidth: 4096
Supported Query Formats: JSON, geoJSON
Supports Query Data Elements:
Min Scale: 5.91657527591555E8
Max Scale: 9027.977411
Supports Datum Transformation: true
Child Resources:
Info
Dynamic Layer
Supported Operations:
Export Map
Identify
QueryLegends
QueryDomains
Find
Return Updates