View In:
ArcGIS JavaScript
ArcGIS Online Map Viewer
ArcGIS Earth
ArcMap
ArcGIS Pro
View Footprint In:
ArcGIS Online Map Viewer
Service Description: The Seas and Submerged Lands Act (SSLA) is the Australian legislation that provides the framework for Australia to declare the baselines, limits and zones provided under the first six parts of the United Nations Convention on the Law of the Sea. These baselines, limits and zones are declared by Proclamations provided for under this act. This service depicts official spatial representation of these proclamations. The service includes feature layers: Normal and Straight baselines limits and locations, Contiguous Zone and limit, Territorial Sea Zone and limit, Exclusive Economic Zone (EEZ) and limit, Continental Shelf limit and locations. NOTE: There are two versions of the Exclusive Economic Zone (EEZ) provided. One depicts the EEZ as proclaimed in the Seas and Submerged Lands Act 1973 - Proclamation under section 10B (26/07/1994). The second version includes amendments reflecting the provisions of the signed but not unratified Treaty between the Government of Australia and the Government of the Republic of Indonesia, establishing an Exclusive Economic Zone Boundary and Certain Seabed Boundaries (Perth, 14 march 1997) [1997] ATNIF 9 - (not yet in force). (Perth Treaty). The version reflecting Perth Treaty EEZ limits and area should be the standard depiction.
Map Name: Australia – Seas and Submerged Lands Act 1973
Legend
All Layers and Tables
Dynamic Legend
Dynamic All Layers
Layers:
Description: The Seas and Submerged Lands Act (SSLA) is the Australian legislation that provides the framework for Australia to declare the baselines, limits and zones provided under the first six parts of the United Nations Convention on the Law of the Sea. These baselines, limits and zones are declared by Proclamations provided for under this act. This service depicts official spatial representation of these proclamations. The service includes feature layers: Normal and Straight baselines limits and locations, Contiguous Zone and limit, Territorial Sea Zone and limit, Exclusive Economic Zone (EEZ) and limit, Continental Shelf limit and locations. NOTE: There are two versions of the Exclusive Economic Zone (EEZ) provided. One depicts the EEZ as proclaimed in the Seas and Submerged Lands Act 1973 - Proclamation under section 10B (26/07/1994). The second version includes amendments reflecting the provisions of the signed but not unratified Treaty between the Government of Australia and the Government of the Republic of Indonesia, establishing an Exclusive Economic Zone Boundary and Certain Seabed Boundaries (Perth, 14 march 1997) [1997] ATNIF 9 - (not yet in force). (Perth Treaty). The version reflecting Perth Treaty EEZ limits and area should be the standard depiction.
Copyright Text: © Commonwealth of Australia (Geoscience Australia) 2019. This product is released under the Creative Commons Attribution 4.0 International Licence. http://creativecommons.org/licenses/by/4.0/legalcode
Spatial Reference:
102100
(3857)
Single Fused Map Cache: true
Tile Info:
- Height: 256
- Width: 256
- DPI: 96
-
Levels of Detail: 24
-
Level ID: 0
[ Start Tile, End Tile ]
- Resolution: 156543.03392800014
- Scale: 5.91657527591555E8
-
Level ID: 1
[ Start Tile, End Tile ]
- Resolution: 78271.51696399994
- Scale: 2.95828763795777E8
-
Level ID: 2
[ Start Tile, End Tile ]
- Resolution: 39135.75848200009
- Scale: 1.47914381897889E8
-
Level ID: 3
[ Start Tile, End Tile ]
- Resolution: 19567.87924099992
- Scale: 7.3957190948944E7
-
Level ID: 4
[ Start Tile, End Tile ]
- Resolution: 9783.93962049996
- Scale: 3.6978595474472E7
-
Level ID: 5
[ Start Tile, End Tile ]
- Resolution: 4891.96981024998
- Scale: 1.8489297737236E7
- Format: PNG
- Compression Quality: 0.0
- Origin: X: -2.0037508342787E7
Y: 2.0037508342787E7
- Spatial Reference: 102100
(3857)
Initial Extent:
XMin: 2798960.259089999
YMin: -1.1844151559412058E7
XMax: 2.1108163544163235E7
YMax: -109857.25749011897
Spatial Reference: 102100
Full Extent:
XMin: 4538538.145319533
YMin: -1.1007296206562093E7
XMax: 1.9368585657933705E7
YMax: -946712.6103400879
Spatial Reference: 102100
Units: esriMeters
Supported Image Format Types: PNG32,PNG24,PNG,JPG,DIB,TIFF,EMF,PS,PDF,GIF,SVG,SVGZ,BMP
Document Info:
Title: Australia – Seas and Submerged Lands Act 1973
Author: Geoscience Australia
Comments: The Seas and Submerged Lands Act (SSLA) is the Australian legislation that provides the framework for Australia to declare the baselines, limits and zones provided under the first six parts of the United Nations Convention on the Law of the Sea. These baselines, limits and zones are declared by Proclamations provided for under this act. This service depicts official spatial representation of these proclamations. The service includes feature layers: Normal and Straight baselines limits and locations, Contiguous Zone and limit, Territorial Sea Zone and limit, Exclusive Economic Zone (EEZ) and limit, Continental Shelf limit and locations. NOTE: There are two versions of the Exclusive Economic Zone (EEZ) provided. One depicts the EEZ as proclaimed in the Seas and Submerged Lands Act 1973 - Proclamation under section 10B (26/07/1994). The second version includes amendments reflecting the provisions of the signed but not unratified Treaty between the Government of Australia and the Government of the Republic of Indonesia, establishing an Exclusive Economic Zone Boundary and Certain Seabed Boundaries (Perth, 14 march 1997) [1997] ATNIF 9 - (not yet in force). (Perth Treaty). The version reflecting Perth Treaty EEZ limits and area should be the standard depiction.
Subject: Australia – Seas and Submerged Lands Act 1973
Category:
Keywords: Seas and Submerged Lands Act 1973,Georegulation,Legislation,Australia,Contiguous Zone,Continental,Web Service
AntialiasingMode: None
TextAntialiasingMode: Force
Supports Dynamic Layers: true
MaxRecordCount: 1000
MaxImageHeight: 4096
MaxImageWidth: 4096
Supported Query Formats: JSON, geoJSON
Supports Query Data Elements:
Min Scale: 5.91657527591555E8
Max Scale: 9027.977411
Supports Datum Transformation: true
Child Resources:
Info
Dynamic Layer
Supported Operations:
Export Map
Identify
QueryLegends
QueryDomains
Find
Return Updates